BEGIN:VCALENDAR
VERSION:2.0
PRODID:-//Tukios.com/
BEGIN:VEVENT
UID:813cc556-74e4-453f-bdde-117fa0fad063@www.avancefuneralhome.com
DTSTAMP:20260425T014939Z
DTSTART:20260430T160000Z
DTEND:20260430T170000Z
SUMMARY:Visitation
DESCRIPTION:
URL:https://www.avancefuneralhome.com/obituaries/louise-carpenter
LOCATION: 7350 Dixie Hwy  Fairfield OH 45014
GEO:39.3054603;-84.4854896
END:VEVENT
END:VCALENDAR