BEGIN:VCALENDAR
VERSION:2.0
PRODID:-//Tukios.com/
BEGIN:VEVENT
UID:0617a03e-a873-4a6b-b4c0-2df9496c29f9@www.avancefuneralhome.com
DTSTAMP:20260425T014922Z
DTSTART:20260430T170000Z
DTEND:20260430T180000Z
SUMMARY:Funeral Service
DESCRIPTION:
URL:https://www.avancefuneralhome.com/obituaries/louise-carpenter
LOCATION: 7350 Dixie Hwy  Fairfield OH 45014
GEO:39.3054603;-84.4854896
END:VEVENT
END:VCALENDAR