BEGIN:VCALENDAR
VERSION:2.0
PRODID:-//Tukios.com/
BEGIN:VEVENT
UID:297782de-d6e7-499e-a335-016a9a76bead@www.avancefuneralhome.com
DTSTAMP:20260425T014916Z
DTSTART:20260430
SUMMARY:Burial
DESCRIPTION:
URL:https://www.avancefuneralhome.com/obituaries/louise-carpenter
LOCATION: 2145 Compton Road  Cincinnati OH 45231
GEO:39.2293898;-84.5614865
END:VEVENT
END:VCALENDAR