BEGIN:VCALENDAR
VERSION:2.0
PRODID:-//Tukios.com/
BEGIN:VEVENT
UID:9de0461d-8f8d-4ee8-9e87-c2d672abafa0@www.avancefuneralhome.com
DTSTAMP:20260425T154833Z
DTSTART:20260428T210000Z
DTEND:20260428T230000Z
SUMMARY:Visitation
DESCRIPTION:
URL:https://www.avancefuneralhome.com/obituaries/marjorie-merten
LOCATION: 4976 Winton Road  Fairfield OH 45014
GEO:39.341972;-84.5388952
END:VEVENT
END:VCALENDAR