BEGIN:VCALENDAR
VERSION:2.0
PRODID:-//Tukios.com/
BEGIN:VEVENT
UID:6e77a192-85e3-4351-8a23-1406b30a5317@www.avancefuneralhome.com
DTSTAMP:20260425T155434Z
DTSTART:20260429T143000Z
DTEND:20260429T153000Z
SUMMARY:Mass
DESCRIPTION:
URL:https://www.avancefuneralhome.com/obituaries/marjorie-merten
LOCATION: 400 Nilles Road  Hamilton OH 45014
GEO:39.3384648;-84.5666952
END:VEVENT
END:VCALENDAR